BEGIN:VCALENDAR
VERSION:2.0
PRODID:-//Taekwondo JTF - ECPv6.15.20//NONSGML v1.0//EN
CALSCALE:GREGORIAN
METHOD:PUBLISH
X-ORIGINAL-URL:https://taekwondojtf.com.br
X-WR-CALDESC:Eventos para Taekwondo JTF
REFRESH-INTERVAL;VALUE=DURATION:PT1H
X-Robots-Tag:noindex
X-PUBLISHED-TTL:PT1H
BEGIN:VTIMEZONE
TZID:America/Sao_Paulo
BEGIN:STANDARD
TZOFFSETFROM:-0300
TZOFFSETTO:-0300
TZNAME:-03
DTSTART:20250101T000000
END:STANDARD
END:VTIMEZONE
BEGIN:VEVENT
DTSTART;TZID=America/Sao_Paulo:20260808T080000
DTEND;TZID=America/Sao_Paulo:20260809T170000
DTSTAMP:20260422T053847
CREATED:20250829T144119Z
LAST-MODIFIED:20260204T194345Z
UID:6358-1786176000-1786294800@taekwondojtf.com.br
SUMMARY:Palestra ECA
DESCRIPTION:Palestra com autoridades sobre crianças e adolescentes\, com intuito de aprofundar mais sobre o Estatuto da Criança e do Adolescente – ECA.
URL:https://taekwondojtf.com.br/calendario/demonstracao-hanfest-festa-coreana/
LOCATION:Escola Prefeito Amadio Dalago\, Rua Cabo Henrique Bernardes\, S/N – Bairro Cedro\, Camboriú\, Santa Catarina\, 88340000\, Brazil
CATEGORIES:Evento
ATTACH;FMTTYPE=image/jpeg:https://taekwondojtf.com.br/wp-content/uploads/2025/08/Hanfest-Coreana.jpeg
END:VEVENT
END:VCALENDAR