BEGIN:VCALENDAR
VERSION:2.0
PRODID:-//Taekwondo JTF - ECPv6.15.20//NONSGML v1.0//EN
CALSCALE:GREGORIAN
METHOD:PUBLISH
X-ORIGINAL-URL:https://taekwondojtf.com.br
X-WR-CALDESC:Eventos para Taekwondo JTF
REFRESH-INTERVAL;VALUE=DURATION:PT1H
X-Robots-Tag:noindex
X-PUBLISHED-TTL:PT1H
BEGIN:VTIMEZONE
TZID:America/Sao_Paulo
BEGIN:STANDARD
TZOFFSETFROM:-0300
TZOFFSETTO:-0300
TZNAME:-03
DTSTART:20250101T000000
END:STANDARD
END:VTIMEZONE
BEGIN:VEVENT
DTSTART;TZID=America/Sao_Paulo:20260907T080000
DTEND;TZID=America/Sao_Paulo:20260907T130000
DTSTAMP:20260424T072741
CREATED:20250130T140858Z
LAST-MODIFIED:20260204T194939Z
UID:4076-1788768000-1788786000@taekwondojtf.com.br
SUMMARY:Desfile da Semana da Pátria
DESCRIPTION:O desfile da Semana da Pátria é um evento significativo que ocorre anualmente no Brasil\, celebrando a independência e a identidade nacional. Comemorado de 1º a 7 de setembro\, o desfile reúne escolas\, instituições e comunidades para homenagear a história do nosso país. É uma oportunidade de reforçar valores civis\, promover o respeito ao próximo e cultivar o amor pela pátria. Além de ser um momento de alegria e confraternização\, o evento educa as novas gerações sobre a importância da luta pela liberdade e os direitos conquistados ao longo dos anos. Participar dessa celebração é um ato de cidadania e um incentivo à união do povo brasileiro. \n  \nResponsáveis: \nBalneário Camboriú – Mestre Nathan Oliveira – 6º Dan e Instrutor Sergio Silvestre – 3º Dan. \nCamboriú – Mestre Rafaela de Souza – 4º Dan e Instrutor Flávio Ferreira – 3º Dan. \n  \n 
URL:https://taekwondojtf.com.br/calendario/desfile-da-semana-da-patria/
LOCATION:Associação Dragão Negro Balneário Camboriú\, Rua Sgt Mário Manoel Rodrigues\, 22 Bairro São Judas Tadeu\, Balneário Camboriú\, Santa Catarina\, 88332-480\, Brazil
CATEGORIES:Evento
ATTACH;FMTTYPE=image/jpeg:https://taekwondojtf.com.br/wp-content/uploads/2024/10/Desfile-07SET2024-BC-18.jpg
END:VEVENT
BEGIN:VEVENT
DTSTART;TZID=America/Sao_Paulo:20260909T080000
DTEND;TZID=America/Sao_Paulo:20260909T170000
DTSTAMP:20260424T072741
CREATED:20250130T141904Z
LAST-MODIFIED:20260204T200912Z
UID:4078-1788940800-1788973200@taekwondojtf.com.br
SUMMARY:Projeto SWAT - 23 anos
DESCRIPTION:O Projeto SWAT de Taekwondo JTF celebra 22 anos de dedicação e comprometimento com a formação de crianças e adolescentes por meio do Taekwondo. Desde sua criação\, o projeto não apenas promove a prática desse esporte\, mas também atua como uma ferramenta de inclusão social\, disciplina e desenvolvimento pessoal. \nA importância do SWAT vai além do aprendizado das técnicas marciais; ele ensina valores como respeito\, perseverança e trabalho em equipe\, fundamentais para a formação de cidadãos conscientes e responsáveis. Ao longo dessas duas décadas\, o projeto contribuiu para a melhoria da autoestima e da saúde física e mental de seus participantes\, além de formar atletas que representam com orgulho nossa comunidade. \nParabenizamos o Projeto SWAT pelo seu legado e impacto positivo ao longo desses 21 anos\, e reafirmamos nosso apoio à sua missão de continuar transformando vidas através do Taekwondo JTF.
URL:https://taekwondojtf.com.br/calendario/projeto-swat-21-anos/
LOCATION:Associação Dragão Negro Balneário Camboriú\, Rua Sgt Mário Manoel Rodrigues\, 22 Bairro São Judas Tadeu\, Balneário Camboriú\, Santa Catarina\, 88332-480\, Brazil
CATEGORIES:Evento
ATTACH;FMTTYPE=image/jpeg:https://taekwondojtf.com.br/wp-content/uploads/2024/10/Desfile-07SET2024-BC-22.jpg
END:VEVENT
END:VCALENDAR