BEGIN:VCALENDAR
VERSION:2.0
PRODID:-//Taekwondo JTF - ECPv6.15.11//NONSGML v1.0//EN
CALSCALE:GREGORIAN
METHOD:PUBLISH
X-ORIGINAL-URL:https://taekwondojtf.com.br
X-WR-CALDESC:Eventos para Taekwondo JTF
REFRESH-INTERVAL;VALUE=DURATION:PT1H
X-Robots-Tag:noindex
X-PUBLISHED-TTL:PT1H
BEGIN:VTIMEZONE
TZID:America/Sao_Paulo
BEGIN:STANDARD
TZOFFSETFROM:-0300
TZOFFSETTO:-0300
TZNAME:-03
DTSTART:20250101T000000
END:STANDARD
END:VTIMEZONE
BEGIN:VEVENT
DTSTART;TZID=America/Sao_Paulo:20261114T140000
DTEND;TZID=America/Sao_Paulo:20261114T170000
DTSTAMP:20260420T212041
CREATED:20241219T122502Z
LAST-MODIFIED:20260327T113335Z
UID:3828-1794664800-1794675600@taekwondojtf.com.br
SUMMARY:216º Exame de Faixa - Balneário Camboriú
DESCRIPTION:É com grande entusiasmo que convidamos você para o nosso próximo exame de faixa de Taekwondo JTF. Este é um momento de celebração e conquista\, onde nossos atletas terão a oportunidade de demonstrar todo o seu esforço e dedicação ao longo do treinamento. Contamos com a presença de todos para brindar essa importante fase na jornada marciais de nossos alunos. \nEsse exame somente para atletas da cidade de Balneário Camboriú.
URL:https://taekwondojtf.com.br/calendario/208o-exame-de-faixa-programa-basico/
LOCATION:Ginásio do Projeto Oficinas\, Rua Dom Abelardo\, 568 Bairro Vila Real\, Balneário Camboriú\, Santa Catarina\, 88337-145\, Brazil
CATEGORIES:Exames de Faixa
ATTACH;FMTTYPE=image/jpeg:https://taekwondojtf.com.br/wp-content/uploads/2024/10/202o-Exame-13JUL2024-Camboriu-SC-73.jpg
END:VEVENT
BEGIN:VEVENT
DTSTART;TZID=America/Sao_Paulo:20261118T190000
DTEND;TZID=America/Sao_Paulo:20261118T190000
DTSTAMP:20260420T212041
CREATED:20260327T113630Z
LAST-MODIFIED:20260327T113630Z
UID:7101-1795028400-1795028400@taekwondojtf.com.br
SUMMARY:217º Exame de Faixa - Itajaí
DESCRIPTION:É com grande entusiasmo que convidamos você para o nosso próximo exame de faixa de Taekwondo JTF. Este é um momento de celebração e conquista\, onde nossos atletas terão a oportunidade de demonstrar todo o seu esforço e dedicação ao longo do treinamento. Contamos com a presença de todos para brindar essa importante fase na jornada marciais de nossos alunos. \nEsse Exame será realizado com todos os programas e somente para alunos de Itajaí/SC.
URL:https://taekwondojtf.com.br/calendario/217o-exame-de-faixa-itajai/
LOCATION:Academia Dragão Rei\, Rua Augusto Cugnier\, nº 456 – Bairro Espinheiros\,\, Itajaí\, Santa Catarina\, 88317-519\, Brazil
CATEGORIES:Exames de Faixa
ATTACH;FMTTYPE=image/jpeg:https://taekwondojtf.com.br/wp-content/uploads/2026/03/211o-Exame-de-Faixa-25MAR2026-Itajai-8-scaled.jpg
END:VEVENT
BEGIN:VEVENT
DTSTART;TZID=America/Sao_Paulo:20261121T140000
DTEND;TZID=America/Sao_Paulo:20261121T170000
DTSTAMP:20260420T212041
CREATED:20241219T122647Z
LAST-MODIFIED:20260327T113454Z
UID:3830-1795269600-1795280400@taekwondojtf.com.br
SUMMARY:218º Exame de Faixa - Camboriú
DESCRIPTION:É com grande entusiasmo que convidamos você para o nosso próximo exame de faixa de Taekwondo JTF. Este é um momento de celebração e conquista\, onde nossos atletas terão a oportunidade de demonstrar todo o seu esforço e dedicação ao longo do treinamento. Contamos com a presença de todos para brindar essa importante fase na jornada marciais de nossos alunos. \nEsse exame somente para atletas da cidade de Camboriú.
URL:https://taekwondojtf.com.br/calendario/209o-exame-de-faixa-graduados/
LOCATION:Escola Prefeito Amadio Dalago\, Rua Cabo Henrique Bernardes\, S/N – Bairro Cedro\, Camboriú\, Santa Catarina\, 88340000\, Brazil
CATEGORIES:Exames de Faixa
ATTACH;FMTTYPE=image/jpeg:https://taekwondojtf.com.br/wp-content/uploads/2024/10/202o-Exame-13JUL2024-Camboriu-SC-82.jpg
ORGANIZER;CN="Mestre Suyenne Eccel - Faixa Preta 4%C2%BA Dan":MAILTO:taekwondojtf@gmail.com
END:VEVENT
END:VCALENDAR